Workbook

Sheet Output-energy-to-services
C2: Calculations relating to refinement of conversion efficiencies from energy to services in Insight Maker energy transition model
C3: Josh Floyd
C4: 42250
C5: Introduction to the model: | D5: http://beyondthisbriefanomaly.org/2015/08/07/energy-transition-renewables-and-batteries-a-systems-view/
C6: Commentary on the "standard run" and implications: | D6: http://beyondthisbriefanomaly.org/2015/08/20/an-integrated-view-of-energy-transition-what-can-we-learn/
C7: Link to original "standard run" version of Insight Maker energy transition model from which gross energy services data used in this spreadsheet is obtained: | D7: https://insightmaker.com/insight/35843/Clone-of-Energy-transition-to-lower-EROI-sources
C8: Link to updated version of model that uses data from this spreadsheet to refine handling of conversion efficiency from energy to services | D8: https://insightmaker.com/insight/35986/Energy-transition-to-lower-EROI-sources-refined-energy-to-services-conversion-efficiency-implementation
C11: Data source: Gross energy services outputs from IM energy transition model
C14: Post-transition energy service type | D14: Converstion efficiency (at end of transition phase), including where relevant an allowance for global mean electrical energy transmission & distribution loss of 8% | E14: COP, including global mean electrical energy transmission & distribution loss of 8%
C15: High temp heating (combustion) | D15: 0.6
C16: High temp heating (electrical: inductive & resistive) | D16: 0.9
C17: Low temp heating (combustion) | D17: 0.9
C18: Low temp heating (electrical via heat pump) | E18: =4*0.92 -> 3.68
C19: Work (ICE) | D19: 0.35
C20: Work--transport (electrical via onboard battery storage) | D20: 0.75
C21: Work--other (electrical via grid transmission & distribution) | D21: 0.85
C24: Time of maximum gross energy services out pre-transition (years from simulation start) | D24: Gross BEFH energy services output | E24: Gross CFE energy services output | F24: Gross CH energy services output | G24: Gross HE energy services output | H24: Gross NGE energy services output | I24: Gross NGH energy services output | J24: Gross NuE energy services output | K24: Gross PTF energy services output | L24: Gross PVE energy services output | M24: Gross WE energy services output | N24: Totals | O24: Energy services of each type as proportion of total
D25: GW
C26: 112 | D26: 852.68513 | E26: 1254.2673 | F26: 751.90424 | G26: 364.97916 | H26: 150.56819 | I26: 1296.4962 | J26: 336.69206 | K26: 1192.4097 | L26: 0 | M26: 0 | N26: =SUM(D26:M26) -> 6200.0021
B27: Pre-transition use profile (%) | C27: High temp heating (combustion) | D27: 0.2 | E27: 0 | F27: 1 | G27: 0 | H27: 0 | I27: 0.5 | J27: 0 | K27: 0 | L27: 0 | M27: 0
C28: High temp heating (electrical: inductive & resistive) | D28: 0 | E28: 0 | F28: 0 | G28: 0 | H28: 0 | I28: 0 | J28: 0 | K28: 0 | L28: 0 | M28: 0
C29: Low temp heating (combustion) | D29: 0.2 | E29: 0 | F29: 0 | G29: 0 | H29: 0 | I29: 0.5 | J29: 0 | K29: 0 | L29: 0 | M29: 0
C30: Low temp heating (electrical via heat pumps) | D30: 0 | E30: 0 | F30: 0 | G30: 0 | H30: 0 | I30: 0 | J30: 0 | K30: 0 | L30: 0 | M30: 0
C31: Work (ICE) | D31: 0.5 | E31: 0 | F31: 0 | G31: 0 | H31: 0 | I31: 0 | J31: 0 | K31: 1 | L31: 0 | M31: 0
C32: Work--transport (electrical via onboard battery storage) | D32: 0 | E32: 0 | F32: 0 | G32: 0 | H32: 0 | I32: 0 | J32: 0 | K32: 0 | L32: 0 | M32: 0
C33: Work--other (electrical) | D33: 0.1 | E33: 1 | F33: 0 | G33: 1 | H33: 1 | I33: 0 | J33: 1 | K33: 0 | L33: 0 | M33: 0
B34: Pre-transition use profile (GW) | C34: High temp heating (combustion) | D34: =D$26*D27 -> 170.53703 | E34: =E$26*E27 -> 0 | F34: =F$26*F27 -> 751.90424 | G34: =G$26*G27 -> 0 | H34: =H$26*H27 -> 0 | I34: =I$26*I27 -> 648.24812 | J34: =J$26*J27 -> 0 | K34: =K$26*K27 -> 0 | ... M34: =M$26*M27 -> 0 | N34: =SUM(D34:M34) -> 1570.6894 | O34: =N34/$N$41 -> 0.25333691
C35: High temp heating (electrical: inductive & resistive) | D35: =D$26*D28 -> 0 | E35: =E$26*E28 -> 0 | F35: =F$26*F28 -> 0 | G35: =G$26*G28 -> 0 | H35: =H$26*H28 -> 0 | I35: =I$26*I28 -> 0 | J35: =J$26*J28 -> 0 | K35: =K$26*K28 -> 0 | ... M35: =M$26*M28 -> 0 | N35: =SUM(D35:M35) -> 0 | O35: =N35/$N$41 -> 0
C36: Low temp heating (combustion) | D36: =D$26*D29 -> 170.53703 | E36: =E$26*E29 -> 0 | F36: =F$26*F29 -> 0 | G36: =G$26*G29 -> 0 | H36: =H$26*H29 -> 0 | I36: =I$26*I29 -> 648.24812 | J36: =J$26*J29 -> 0 | K36: =K$26*K29 -> 0 | ... M36: =M$26*M29 -> 0 | N36: =SUM(D36:M36) -> 818.78515 | O36: =N36/$N$41 -> 0.13206208
C37: Low temp heating (electrical via heat pumps) | D37: =D$26*D30 -> 0 | E37: =E$26*E30 -> 0 | F37: =F$26*F30 -> 0 | G37: =G$26*G30 -> 0 | H37: =H$26*H30 -> 0 | I37: =I$26*I30 -> 0 | J37: =J$26*J30 -> 0 | K37: =K$26*K30 -> 0 | ... M37: =M$26*M30 -> 0 | N37: =SUM(D37:M37) -> 0 | O37: =N37/$N$41 -> 0
C38: Work (ICE) | D38: =D$26*D31 -> 426.34257 | E38: =E$26*E31 -> 0 | F38: =F$26*F31 -> 0 | G38: =G$26*G31 -> 0 | H38: =H$26*H31 -> 0 | I38: =I$26*I31 -> 0 | J38: =J$26*J31 -> 0 | K38: =K$26*K31 -> 1192.4097 | ... M38: =M$26*M31 -> 0 | N38: =SUM(D38:M38) -> 1618.7523 | O38: =N38/$N$41 -> 0.26108899
C39: Work--transport (electrical via onboard battery storage) | D39: =D$26*D32 -> 0 | E39: =E$26*E32 -> 0 | F39: =F$26*F32 -> 0 | G39: =G$26*G32 -> 0 | H39: =H$26*H32 -> 0 | I39: =I$26*I32 -> 0 | J39: =J$26*J32 -> 0 | K39: =K$26*K32 -> 0 | ... M39: =M$26*M32 -> 0 | N39: =SUM(D39:M39) -> 0 | O39: =N39/$N$41 -> 0
C40: Work--other (electrical) | D40: =D$26*D33 -> 85.268513 | E40: =E$26*E33 -> 1254.2673 | F40: =F$26*F33 -> 0 | G40: =G$26*G33 -> 364.97916 | H40: =H$26*H33 -> 150.56819 | I40: =I$26*I33 -> 0 | J40: =J$26*J33 -> 336.69206 | K40: =K$26*K33 -> 0 | ... M40: =M$26*M33 -> 0 | N40: =SUM(D40:M40) -> 2191.7753 | O40: =N40/$N$41 -> 0.35351202
C41: Check sum | N41: =SUM(N34:N40) -> 6200.0021
C42: Mean converstion efficiency (energy to services) based on post-transition values corresponding with each energy service category | D42: =(D34+D35+D36+D37+D38+D39+D40)/(D34/$D$15+D35/$D$16+D36/$D$17+D37/$E$18+D38/$D$19+D39/$D$20+D40/$D$21) -> 0.47578854 | E42: =(E34+E35+E36+E37+E38+E39+E40)/(E34/$D$15+E35/$D$16+E36/$D$17+E37/$E$18+E38/$D$19+E39/$D$20+E40/$D$21) -> 0.85 | F42: =(F34+F35+F36+F37+F38+F39+F40)/(F34/$D$15+F35/$D$16+F36/$D$17+F37/$E$18+F38/$D$19+F39/$D$20+F40/$D$21) -> 0.6 | G42: =(G34+G35+G36+G37+G38+G39+G40)/(G34/$D$15+G35/$D$16+G36/$D$17+G37/$E$18+G38/$D$19+G39/$D$20+G40/$D$21) -> 0.85 | H42: =(H34+H35+H36+H37+H38+H39+H40)/(H34/$D$15+H35/$D$16+H36/$D$17+H37/$E$18+H38/$D$19+H39/$D$20+H40/$D$21) -> 0.85 | I42: =(I34+I35+I36+I37+I38+I39+I40)/(I34/$D$15+I35/$D$16+I36/$D$17+I37/$E$18+I38/$D$19+I39/$D$20+I40/$D$21) -> 0.72 | J42: =(J34+J35+J36+J37+J38+J39+J40)/(J34/$D$15+J35/$D$16+J36/$D$17+J37/$E$18+J38/$D$19+J39/$D$20+J40/$D$21) -> 0.85 | K42: =(K34+K35+K36+K37+K38+K39+K40)/(K34/$D$15+K35/$D$16+K36/$D$17+K37/$E$18+K38/$D$19+K39/$D$20+K40/$D$21) -> 0.35 | L42: n/a | M42: n/a
C44: Time of maximum gross energy services out post-transition (years from simulation start) | D44: Gross BEFH energy services output | E44: Gross CFE energy services output | F44: Gross CH energy services output | G44: Gross HE energy services output | H44: Gross NGE energy services output | I44: Gross NGH energy services output | J44: Gross NuE energy services output | K44: Gross PTF energy services output | L44: Gross PVE energy services output | M44: Gross WE energy services output | N44: Totals | O44: Energy services of each type as proportion of total | P44: Post-transition to pre-transition difference in energy services of each type as proportion of total | Q44: Post-transition gross energy supply to meet energy service output
D45: GW
C46: 197 | D46: 1529.5792 | E46: 0 | F46: 0 | G46: 728.16002 | H46: 0 | I46: 0 | J46: 820.72741 | K46: 0 | L46: 1774.9278 | M46: 2216.5862 | N46: =SUM(D46:M46) -> 7069.9807
B47: Post-transition use profile (%) | C47: High temp heating (combustion) | D47: 0.25 | E47: 0 | F47: 0 | G47: 0 | H47: 0 | I47: 0 | J47: =$G47 -> 0 | K47: 0 | L47: =$G47 -> 0 | M47: =$G47 -> 0
C48: High temp heating (electrical: inductive & resistive) | D48: 0 | E48: 0 | F48: 0 | G48: 0.25 | H48: 0 | I48: 0 | J48: =$G48 -> 0.25 | K48: 0 | L48: =$G48 -> 0.25 | M48: =$G48 -> 0.25
...

Sheet Convergence check
C2: Calculations on this page take as inputs the gross energy outpus pre- and post-transition generated from the refined version of the original IM model, when the conversion efficiencies specified on the previous page are used. The conversion efficiency parameter set is taken to have converged on the correct values when: a) the aggregate conversion efficiency calculated on this page matches the post-transition global mean conversion efficiency from gross power outputs to gross energy service outputs in the IM model; and b) the mean post-transition conversion efficiencies for each source calculated on this page are sufficiently close to the year 150 values used in the IM model (see previous page).
C3: Version of IM energy transition model from which gross energy services output values used on this page were generated: | D3: https://insightmaker.com/insight/35986/Energy-transition-to-lower-EROI-sources-refined-energy-to-services-conversion-efficiency-implementation
C5: Post-transition energy service type | D5: Converstion efficiency (at end of transition phase), including where relevant an allowance for global mean electrical energy transmission & distribution loss of 8% | E5: COP, including global mean electrical energy transmission & distribution loss of 8%
C6: High temp heating (combustion) | D6: 0.6
C7: High temp heating (electrical: inductive & resistive) | D7: 0.9
C8: Low temp heating (combustion) | D8: 0.9
C9: Low temp heating (electrical via heat pump) | E9: =4*0.92 -> 3.68
C10: Work (ICE) | D10: 0.35
C11: Work--transport (electrical via onboard battery storage) | D11: 0.75
C12: Work--other (electrical via grid transmission & distribution) | D12: 0.85
C15: Time of maximum gross energy services out pre-transition (years from simulation start) | D15: Gross BEFH energy services output | E15: Gross CFE energy services output | F15: Gross CH energy services output | G15: Gross HE energy services output | H15: Gross NGE energy services output | I15: Gross NGH energy services output | J15: Gross NuE energy services output | K15: Gross PTF energy services output | L15: Gross PVE energy services output | M15: Gross WE energy services output | N15: Totals | O15: Energy services of each type as proportion of total
D16: GW
C17: 111 | D17: 779.32045 | E17: 1522.6726 | F17: 748.01434 | G17: 426.39055 | H17: 173.53805 | I17: 1162.4891 | J17: 393.07131 | K17: 1209.8787 | L17: 0 | M17: 0 | N17: =SUM(D17:M17) -> 6415.3751
B18: Pre-transition use profile (%) | C18: High temp heating (combustion) | D18: 0.2 | E18: 0 | F18: 1 | G18: 0 | H18: 0 | I18: 0.5 | J18: 0 | K18: 0 | L18: 0 | M18: 0
C19: High temp heating (electrical: inductive & resistive) | D19: 0 | E19: 0 | F19: 0 | G19: 0 | H19: 0 | I19: 0 | J19: 0 | K19: 0 | L19: 0 | M19: 0
C20: Low temp heating (combustion) | D20: 0.2 | E20: 0 | F20: 0 | G20: 0 | H20: 0 | I20: 0.5 | J20: 0 | K20: 0 | L20: 0 | M20: 0
C21: Low temp heating (electrical via heat pumps) | D21: 0 | E21: 0 | F21: 0 | G21: 0 | H21: 0 | I21: 0 | J21: 0 | K21: 0 | L21: 0 | M21: 0
C22: Work (ICE) | D22: 0.5 | E22: 0 | F22: 0 | G22: 0 | H22: 0 | I22: 0 | J22: 0 | K22: 1 | L22: 0 | M22: 0
C23: Work--transport (electrical via onboard battery storage) | D23: 0 | E23: 0 | F23: 0 | G23: 0 | H23: 0 | I23: 0 | J23: 0 | K23: 0 | L23: 0 | M23: 0
C24: Work--other (electrical) | D24: 0.1 | E24: 1 | F24: 0 | G24: 1 | H24: 1 | I24: 0 | J24: 1 | K24: 0 | L24: 0 | M24: 0
B25: Pre-transition use profile (GW) | C25: High temp heating (combustion) | D25: =D$17*D18 -> 155.86409 | E25: =E$17*E18 -> 0 | F25: =F$17*F18 -> 748.01434 | G25: =G$17*G18 -> 0 | H25: =H$17*H18 -> 0 | I25: =I$17*I18 -> 581.24456 | J25: =J$17*J18 -> 0 | K25: =K$17*K18 -> 0 | ... M25: =M$17*M18 -> 0 | N25: =SUM(D25:M25) -> 1485.123 | O25: =N25/$N$32 -> 0.23149433
C26: High temp heating (electrical: inductive & resistive) | D26: =D$17*D19 -> 0 | E26: =E$17*E19 -> 0 | F26: =F$17*F19 -> 0 | G26: =G$17*G19 -> 0 | H26: =H$17*H19 -> 0 | I26: =I$17*I19 -> 0 | J26: =J$17*J19 -> 0 | K26: =K$17*K19 -> 0 | ... M26: =M$17*M19 -> 0 | N26: =SUM(D26:M26) -> 0 | O26: =N26/$N$32 -> 0
C27: Low temp heating (combustion) | D27: =D$17*D20 -> 155.86409 | E27: =E$17*E20 -> 0 | F27: =F$17*F20 -> 0 | G27: =G$17*G20 -> 0 | H27: =H$17*H20 -> 0 | I27: =I$17*I20 -> 581.24456 | J27: =J$17*J20 -> 0 | K27: =K$17*K20 -> 0 | ... M27: =M$17*M20 -> 0 | N27: =SUM(D27:M27) -> 737.10865 | O27: =N27/$N$32 -> 0.1148972
C28: Low temp heating (electrical via heat pumps) | D28: =D$17*D21 -> 0 | E28: =E$17*E21 -> 0 | F28: =F$17*F21 -> 0 | G28: =G$17*G21 -> 0 | H28: =H$17*H21 -> 0 | I28: =I$17*I21 -> 0 | J28: =J$17*J21 -> 0 | K28: =K$17*K21 -> 0 | ... M28: =M$17*M21 -> 0 | N28: =SUM(D28:M28) -> 0 | O28: =N28/$N$32 -> 0
C29: Work (ICE) | D29: =D$17*D22 -> 389.66022 | E29: =E$17*E22 -> 0 | F29: =F$17*F22 -> 0 | G29: =G$17*G22 -> 0 | H29: =H$17*H22 -> 0 | I29: =I$17*I22 -> 0 | J29: =J$17*J22 -> 0 | K29: =K$17*K22 -> 1209.8787 | ... M29: =M$17*M22 -> 0 | N29: =SUM(D29:M29) -> 1599.5389 | O29: =N29/$N$32 -> 0.24932898
C30: Work--transport (electrical via onboard battery storage) | D30: =D$17*D23 -> 0 | E30: =E$17*E23 -> 0 | F30: =F$17*F23 -> 0 | G30: =G$17*G23 -> 0 | H30: =H$17*H23 -> 0 | I30: =I$17*I23 -> 0 | J30: =J$17*J23 -> 0 | K30: =K$17*K23 -> 0 | ... M30: =M$17*M23 -> 0 | N30: =SUM(D30:M30) -> 0 | O30: =N30/$N$32 -> 0
C31: Work--other (electrical) | D31: =D$17*D24 -> 77.932045 | E31: =E$17*E24 -> 1522.6726 | F31: =F$17*F24 -> 0 | G31: =G$17*G24 -> 426.39055 | H31: =H$17*H24 -> 173.53805 | I31: =I$17*I24 -> 0 | J31: =J$17*J24 -> 393.07131 | K31: =K$17*K24 -> 0 | ... M31: =M$17*M24 -> 0 | N31: =SUM(D31:M31) -> 2593.6045 | O31: =N31/$N$32 -> 0.40427948
C32: Check sum | N32: =SUM(N25:N31) -> 6415.3751
C33: Mean converstion efficiency (energy to services) based on post-transition values corresponding with each energy service category | D33: =(D25+D26+D27+D28+D29+D30+D31)/(D25/$D$6+D26/$D$7+D27/$D$8+D28/$E$9+D29/$D$10+D30/$D$11+D31/$D$12) -> 0.47578854 | E33: =(E25+E26+E27+E28+E29+E30+E31)/(E25/$D$6+E26/$D$7+E27/$D$8+E28/$E$9+E29/$D$10+E30/$D$11+E31/$D$12) -> 0.85 | F33: =(F25+F26+F27+F28+F29+F30+F31)/(F25/$D$6+F26/$D$7+F27/$D$8+F28/$E$9+F29/$D$10+F30/$D$11+F31/$D$12) -> 0.6 | G33: =(G25+G26+G27+G28+G29+G30+G31)/(G25/$D$6+G26/$D$7+G27/$D$8+G28/$E$9+G29/$D$10+G30/$D$11+G31/$D$12) -> 0.85 | H33: =(H25+H26+H27+H28+H29+H30+H31)/(H25/$D$6+H26/$D$7+H27/$D$8+H28/$E$9+H29/$D$10+H30/$D$11+H31/$D$12) -> 0.85 | I33: =(I25+I26+I27+I28+I29+I30+I31)/(I25/$D$6+I26/$D$7+I27/$D$8+I28/$E$9+I29/$D$10+I30/$D$11+I31/$D$12) -> 0.72 | J33: =(J25+J26+J27+J28+J29+J30+J31)/(J25/$D$6+J26/$D$7+J27/$D$8+J28/$E$9+J29/$D$10+J30/$D$11+J31/$D$12) -> 0.85 | K33: =(K25+K26+K27+K28+K29+K30+K31)/(K25/$D$6+K26/$D$7+K27/$D$8+K28/$E$9+K29/$D$10+K30/$D$11+K31/$D$12) -> 0.35 | L33: n/a | M33: n/a
C35: Time of maximum gross energy services out post-transition (years from simulation start) | D35: Gross BEFH energy services output | E35: Gross CFE energy services output | F35: Gross CH energy services output | G35: Gross HE energy services output | H35: Gross NGE energy services output | I35: Gross NGH energy services output | J35: Gross NuE energy services output | K35: Gross PTF energy services output | L35: Gross PVE energy services output | M35: Gross WE energy services output | N35: Totals | O35: Energy services of each type as proportion of total | P35: Post-transition to pre-transition difference in energy services of each type as proportion of total | Q35: Post-transition gross energy supply to meet energy service output
D36: GW
C37: 198 | D37: 1306.3829 | E37: 0 | F37: 0 | G37: 821.14171 | H37: 0 | I37: 1.047637e-13 | J37: 926.58385 | K37: 0 | L37: 2133.2496 | M37: 2560.2181 | N37: =SUM(D37:M37) -> 7747.5762
B38: Post-transition use profile (%) | C38: High temp heating (combustion) | D38: 0.25 | E38: 0 | F38: 0 | G38: 0 | H38: 0 | I38: 0 | J38: =$G38 -> 0 | K38: 0 | L38: =$G38 -> 0 | M38: =$G38 -> 0
C39: High temp heating (electrical: inductive & resistive) | D39: 0 | E39: 0 | F39: 0 | G39: 0.23 | H39: 0 | I39: 0 | J39: =$G39 -> 0.23 | K39: 0 | L39: =$G39 -> 0.23 | M39: =$G39 -> 0.23
C40: Low temp heating (combustion) | D40: 0.25 | E40: 0 | F40: 0 | G40: 0 | H40: 0 | I40: 0 | J40: =$G40 -> 0 | K40: 0 | L40: =$G40 -> 0 | M40: =$G40 -> 0
C41: Low temp heating (electrical via heat pumps) | D41: 0 | E41: 0 | F41: 0 | G41: 0.09 | H41: 0 | I41: 0 | J41: =$G41 -> 0.09 | K41: 0 | L41: =$G41 -> 0.09 | M41: =$G41 -> 0.09
C42: Work (ICE) | D42: 0.4 | E42: 0 | F42: 0 | G42: 0 | H42: 0 | I42: 0 | J42: =$G42 -> 0 | K42: 0 | L42: =$G42 -> 0 | M42: =$G42 -> 0
C43: Work--transport (electrical via onboard battery storage) | D43: 0 | E43: 0 | F43: 0 | G43: 0.22 | H43: 0 | I43: 0 | J43: =$G43 -> 0.22 | K43: 0 | L43: =$G43 -> 0.22 | M43: =$G43 -> 0.22
C44: Work--other (electrical) | D44: 0.1 | E44: 0 | F44: 0 | G44: 0.46 | H44: 0 | I44: 0 | J44: =$G44 -> 0.46 | K44: 0 | L44: =$G44 -> 0.46 | M44: =$G44 -> 0.46
B45: Post-transition use profile (GW) | C45: High temp heating (combustion) | D45: =D$37*D38 -> 326.59573 | E45: =E$37*E38 -> 0 | F45: =F$37*F38 -> 0 | G45: =G$37*G38 -> 0 | H45: =H$37*H38 -> 0 | I45: =I$37*I38 -> 0 | J45: =J$37*J38 -> 0 | K45: =K$37*K38 -> 0 | ... M45: =M$37*M38 -> 0 | N45: =SUM(D45:M45) -> 326.59573 | O45: =N45/$N$52 -> 0.042154568 | P45: =(O45+O46)-(O25+O26) -> 0.0018780311 | Q45: =N45/D6 -> 544.32621
...

Sheet Self-energy-demand-to-services
C2: Original "standard run" conversion efficiency self-energy demand to services at specificed years from simulation start
B3: Energy supply component | C3: 0 | D3: 100 | E3: 150 | F3: 200
B4: CFE | C4: 0.85 | D4: 0.7 | E4: 0.6 | F4: 0.6
B5: CH | C5: 0.6 | D5: 0.6 | E5: 0.6 | F5: 0.6
B6: NGE | C6: 0.85 | D6: 0.7 | E6: 0.6 | F6: 0.6
B7: NGH | C7: 0.8 | D7: 0.8 | E7: 0.8 | F7: 0.8
B8: PTF | C8: 0.65 | D8: 0.5 | E8: 0.4 | F8: 0.4
B9: BEFH | C9: 0.65 | D9: 0.5 | E9: 0.4 | F9: 0.4
B10: HE | C10: 0.85 | D10: 0.7 | E10: 0.6 | F10: 0.6
B11: NuE | C11: 0.85 | D11: 0.7 | E11: 0.6 | F11: 0.6
B12: WE | C12: 0.85 | D12: 0.7 | E12: 0.6 | F12: 0.6
B13: PVE | C13: 0.85 | D13: 0.7 | E13: 0.6 | F13: 0.6
B14: Battery | C14: 0.7 | D14: 0.7 | E14: 0.7 | F14: 0.7
C18: Learning curve factors required to give above conversion efficiency values, based on global mean conversion efficiency from energy output to services in model standard run
B19: Energy supply component | C19: 0 | D19: 100 | E19: 150 | F19: 200
B20: CFE | C20: =C4/'Output-energy-to-services'!D$69 -> 2.125 | D20: =D4/'Output-energy-to-services'!E$69 -> 1.4285714 | E20: =E4/'Output-energy-to-services'!F$69 -> 0.82191781 | F20: =F4/'Output-energy-to-services'!G$69 -> 0.8
B21: CH | C21: =C5/'Output-energy-to-services'!D$69 -> 1.5 | D21: =D5/'Output-energy-to-services'!E$69 -> 1.2244898 | E21: =E5/'Output-energy-to-services'!F$69 -> 0.82191781 | F21: =F5/'Output-energy-to-services'!G$69 -> 0.8
B22: NGE | C22: =C6/'Output-energy-to-services'!D$69 -> 2.125 | D22: =D6/'Output-energy-to-services'!E$69 -> 1.4285714 | E22: =E6/'Output-energy-to-services'!F$69 -> 0.82191781 | F22: =F6/'Output-energy-to-services'!G$69 -> 0.8
B23: NGH | C23: =C7/'Output-energy-to-services'!D$69 -> 2 | D23: =D7/'Output-energy-to-services'!E$69 -> 1.6326531 | E23: =E7/'Output-energy-to-services'!F$69 -> 1.0958904 | F23: =F7/'Output-energy-to-services'!G$69 -> 1.0666667
B24: PTF | C24: =C8/'Output-energy-to-services'!D$69 -> 1.625 | D24: =D8/'Output-energy-to-services'!E$69 -> 1.0204082 | E24: =E8/'Output-energy-to-services'!F$69 -> 0.54794521 | F24: =F8/'Output-energy-to-services'!G$69 -> 0.53333333
B25: BEFH | C25: =C9/'Output-energy-to-services'!D$69 -> 1.625 | D25: =D9/'Output-energy-to-services'!E$69 -> 1.0204082 | E25: =E9/'Output-energy-to-services'!F$69 -> 0.54794521 | F25: =F9/'Output-energy-to-services'!G$69 -> 0.53333333
B26: HE | C26: =C10/'Output-energy-to-services'!D$69 -> 2.125 | D26: =D10/'Output-energy-to-services'!E$69 -> 1.4285714 | E26: =E10/'Output-energy-to-services'!F$69 -> 0.82191781 | F26: =F10/'Output-energy-to-services'!G$69 -> 0.8
B27: NuE | C27: =C11/'Output-energy-to-services'!D$69 -> 2.125 | D27: =D11/'Output-energy-to-services'!E$69 -> 1.4285714 | E27: =E11/'Output-energy-to-services'!F$69 -> 0.82191781 | F27: =F11/'Output-energy-to-services'!G$69 -> 0.8
B28: WE | C28: =C12/'Output-energy-to-services'!D$69 -> 2.125 | D28: =D12/'Output-energy-to-services'!E$69 -> 1.4285714 | E28: =E12/'Output-energy-to-services'!F$69 -> 0.82191781 | F28: =F12/'Output-energy-to-services'!G$69 -> 0.8
B29: PVE | C29: =C13/'Output-energy-to-services'!D$69 -> 2.125 | D29: =D13/'Output-energy-to-services'!E$69 -> 1.4285714 | E29: =E13/'Output-energy-to-services'!F$69 -> 0.82191781 | F29: =F13/'Output-energy-to-services'!G$69 -> 0.8
B30: Battery | C30: =C14/'Output-energy-to-services'!D$69 -> 1.75 | D30: =D14/'Output-energy-to-services'!E$69 -> 1.4285714 | E30: =E14/'Output-energy-to-services'!F$69 -> 0.95890411 | F30: =F14/'Output-energy-to-services'!G$69 -> 0.93333333
C33: Learning curve factors included in updated version of model
B34: Energy supply component | C34: 0 | D34: 100 | E34: 150 | F34: 200
B35: CFE | C35: 2.125 | D35: 1 | E35: 1 | F35: 1
B36: CH | C36: 1.5 | D36: 1 | E36: 1 | F36: 1
B37: NGE | C37: 2.125 | D37: 1 | E37: 1 | F37: 1
B38: NGH | C38: 2 | D38: 1 | E38: 1 | F38: 1
B39: PTF | C39: 1.625 | D39: 1 | E39: 1 | F39: 1
B40: BEFH | C40: 1.625 | D40: 1 | E40: 1 | F40: 1
B41: HE | C41: 2.125 | D41: 1 | E41: 1 | F41: 1
B42: NuE | C42: 2.125 | D42: 1 | E42: 0.8 | F42: 0.8
B43: WE | C43: 2.125 | D43: 1.2 | E43: 0.9 | F43: 0.9
B44: PVE | C44: 2.125 | D44: 1.2 | E44: 0.9 | F44: 0.9
B45: Battery | C45: 1.75 | D45: 1.2 | E45: 1 | F45: 1
